BEGIN:VCALENDAR
VERSION:2.0
PRODID:-//Dodgeball Club-UWP - ECPv6.15.11//NONSGML v1.0//EN
CALSCALE:GREGORIAN
METHOD:PUBLISH
X-WR-CALNAME:Dodgeball Club-UWP
X-ORIGINAL-URL:https://ncdadodgeball.com/uwp
X-WR-CALDESC:Events for Dodgeball Club-UWP
REFRESH-INTERVAL;VALUE=DURATION:PT1H
X-Robots-Tag:noindex
X-PUBLISHED-TTL:PT1H
BEGIN:VTIMEZONE
TZID:America/Chicago
BEGIN:DAYLIGHT
TZOFFSETFROM:-0600
TZOFFSETTO:-0500
TZNAME:CDT
DTSTART:20220313T080000
END:DAYLIGHT
BEGIN:STANDARD
TZOFFSETFROM:-0500
TZOFFSETTO:-0600
TZNAME:CST
DTSTART:20221106T070000
END:STANDARD
BEGIN:DAYLIGHT
TZOFFSETFROM:-0600
TZOFFSETTO:-0500
TZNAME:CDT
DTSTART:20230312T080000
END:DAYLIGHT
BEGIN:STANDARD
TZOFFSETFROM:-0500
TZOFFSETTO:-0600
TZNAME:CST
DTSTART:20231105T070000
END:STANDARD
BEGIN:DAYLIGHT
TZOFFSETFROM:-0600
TZOFFSETTO:-0500
TZNAME:CDT
DTSTART:20240310T080000
END:DAYLIGHT
BEGIN:STANDARD
TZOFFSETFROM:-0500
TZOFFSETTO:-0600
TZNAME:CST
DTSTART:20241103T070000
END:STANDARD
END:VTIMEZONE
BEGIN:VEVENT
DTSTART;VALUE=DATE:20231109
DTEND;VALUE=DATE:20231112
DTSTAMP:20260421T132614
CREATED:20231104T170902Z
LAST-MODIFIED:20231104T170902Z
UID:2360-1699488000-1699747199@ncdadodgeball.com
SUMMARY:Pioneer Classic IV
DESCRIPTION:Come join us for our annual Popcorn Kernel fundraiser. November 9th-11th. Stop by the Popcorn Kernel LLC located on main street in Platteville Wisconsin. Be sure to mention the UW Platteville Dodgeball Club with your purchase. Store hours are 10am-5:30pm.
URL:https://ncdadodgeball.com/uwp/event/pioneer-classic-iv-2/
LOCATION:Popcorn Kernel LLC\, 65 W Main St\, Platteville\, WI\, 53818\, United States
END:VEVENT
END:VCALENDAR